BEGIN:VCALENDAR
VERSION:2.0
PRODID:-//wp-events-plugin.com//7.2.3.1//EN
TZID:Europe/Berlin
X-WR-TIMEZONE:Europe/Berlin
BEGIN:VEVENT
UID:6-1324@frauenbund-aicha-vorm-wald.de
DTSTART;TZID=Europe/Berlin:20180302T190000
DTEND;TZID=Europe/Berlin:20180302T200000
DTSTAMP:20180116T162354Z
URL:https://frauenbund-aicha-vorm-wald.de/frauenbund-noeham/termine/weltge
 betstag-der-frauen-3/
SUMMARY:Weltgebetstag der Frauen
DESCRIPTION:Der Frauenbund Nöham gestaltet den diesjährigen Weltgebetstag
  im Pfarrverband.
CATEGORIES:Frauenbund Nöham
LOCATION:Pfarrkirche St. Nikolaus\, Ludwig-Mitterer-Straße\, Nöham\, Deut
 schland
GEO:48.4814553;12.901641299999937
X-APPLE-STRUCTURED-LOCATION;VALUE=URI;X-ADDRESS=Ludwig-Mitterer-Straße\, N
 öham\, Deutschland;X-APPLE-RADIUS=100;X-TITLE=Pfarrkirche St. Nikolaus:ge
 o:48.4814553,12.901641299999937
END:VEVENT
BEGIN:VTIMEZONE
TZID:Europe/Berlin
X-LIC-LOCATION:Europe/Berlin
BEGIN:STANDARD
DTSTART:20171029T020000
TZOFFSETFROM:+0200
TZOFFSETTO:+0100
TZNAME:CET
END:STANDARD
END:VTIMEZONE
END:VCALENDAR