BEGIN:VCALENDAR
VERSION:2.0
PRODID:-//wp-events-plugin.com//7.2.3.1//EN
TZID:Europe/Berlin
X-WR-TIMEZONE:Europe/Berlin
BEGIN:VEVENT
UID:1-82@frauenbund-aicha-vorm-wald.de
DTSTART;TZID=Europe/Berlin;VALUE=DATE:20150909
DTEND;TZID=Europe/Berlin;VALUE=DATE:20150914
DTSTAMP:20150526T165902Z
URL:https://frauenbund-aicha-vorm-wald.de/termine/pilgerreise-nach-la-sale
 tte/
SUMMARY:Pilgerreise nach La Salette
DESCRIPTION:Wir wollen auf unserer Pilgerfahrt zwei religiös wichtige Orte
  in Südfrankreich besuchen.\n\nIm kleinen Dorf Ars\, das 35 km nördllich
  von Lyon liegt\, wirkte 1818-1859 Johannes Maria Vianney als Pfarrer. Sch
 on zu Lebzeiten wurde er hoch verehrt\, seit seinem Tod ist der kleine Ort
  ein gern besuchter Pilgerort.\n\nDann geht die Fahrt weiter in Richtung S
 üden über Grenoble nach La Salette - ein einsam gelegener Marienverehrun
 gsort in der Dauphine (franz. Südalpen) auf ca. 1800 m Höhe. Dort fand a
 m 19.09.1846 eine Marienerscheinung statt\, danach hat sich ein Pilgerort 
 mit besonderer Ausstrahlung entwickelt.\n\nBei der Heimfahrt steht noch de
 r Besuch zweier schöner Kirchen in Deutschland\, St. Blasien im Schwarzwa
 ld und Birnau am Bodensee\, auf dem Programm.\n\nAls geistlichen Begleiter
  freuen wir uns auf unseren früheren Pfarrer Eberhard Eibl.
CATEGORIES:Frauenbund Aicha vorm Wald
END:VEVENT
BEGIN:VTIMEZONE
TZID:Europe/Berlin
X-LIC-LOCATION:Europe/Berlin
BEGIN:DAYLIGHT
DTSTART:20150329T030000
TZOFFSETFROM:+0100
TZOFFSETTO:+0200
TZNAME:CEST
END:DAYLIGHT
END:VTIMEZONE
END:VCALENDAR