BEGIN:VCALENDAR
VERSION:2.0
PRODID:-//wp-events-plugin.com//7.2.3.1//EN
TZID:Europe/Berlin
X-WR-TIMEZONE:Europe/Berlin
BEGIN:VEVENT
UID:1-696@frauenbund-aicha-vorm-wald.de
DTSTART;TZID=Europe/Berlin:20161027T190000
DTEND;TZID=Europe/Berlin:20161027T210000
DTSTAMP:20161028T033323Z
URL:https://frauenbund-aicha-vorm-wald.de/termine/oktoberrosenkranz-2/
SUMMARY:Oktoberrosenkranz
DESCRIPTION:Der KDFB ZV Aicha vorm Wald lädt sehr herzlich zum Oktoberrose
 nkranz in der Pfarrkirche ein. Anschließend ist ein gemütliches Beisamme
 nsein im Gasthaus Stauder geplant.
CATEGORIES:Frauenbund Aicha vorm Wald
END:VEVENT
BEGIN:VTIMEZONE
TZID:Europe/Berlin
X-LIC-LOCATION:Europe/Berlin
BEGIN:DAYLIGHT
DTSTART:20160327T030000
TZOFFSETFROM:+0100
TZOFFSETTO:+0200
TZNAME:CEST
END:DAYLIGHT
END:VTIMEZONE
END:VCALENDAR