BEGIN:VCALENDAR
VERSION:2.0
PRODID:-//wp-events-plugin.com//7.2.3.1//EN
TZID:Europe/Berlin
X-WR-TIMEZONE:Europe/Berlin
BEGIN:VEVENT
UID:1-661@frauenbund-aicha-vorm-wald.de
DTSTART;TZID=Europe/Berlin:20160825T150000
DTEND;TZID=Europe/Berlin:20160825T170000
DTSTAMP:20160818T081011Z
URL:https://frauenbund-aicha-vorm-wald.de/termine/ferienprogramm-spielenac
 hmittag/
SUMMARY:Ferienprogramm "Spielenachmittag"
DESCRIPTION:Zum Ferienprogramm am Donnerstag\, dem 25. August zwischen 15.0
 0-17.00 Uhr möchten wir alle Kinder zwischen 4 und 12 Jahren recht herzli
 ch einladen!\n\nWir veranstalten einen Spielenachmittag\, der für jedes M
 ädel und für jeden Buben etwas bereithält\, u.a. wollen wir Dosenwerfen
 \, Würstelschnappen\, Schokokusswettessen\, Schubkarrenwettrennen u.v.m. 
 Mit Kuchen und Getränken ist auch für das leibliche Wohl im Schulhof (be
 i schlechtem Wetter in der Pausenhalle) gesorgt.\n\n&nbsp\;\n\nAnmeldung b
 ei Daniela Voggenreiter\,\n\nTel.: 0170/1501723\n\n&nbsp\;
CATEGORIES:Frauenbund Aicha vorm Wald
END:VEVENT
BEGIN:VTIMEZONE
TZID:Europe/Berlin
X-LIC-LOCATION:Europe/Berlin
BEGIN:DAYLIGHT
DTSTART:20160327T030000
TZOFFSETFROM:+0100
TZOFFSETTO:+0200
TZNAME:CEST
END:DAYLIGHT
END:VTIMEZONE
END:VCALENDAR