BEGIN:VCALENDAR
VERSION:2.0
PRODID:-//wp-events-plugin.com//7.2.3.1//EN
TZID:Europe/Berlin
X-WR-TIMEZONE:Europe/Berlin
BEGIN:VEVENT
UID:1-2876@frauenbund-aicha-vorm-wald.de
DTSTART;TZID=Europe/Berlin:20191006T090000
DTEND;TZID=Europe/Berlin:20191006T140000
DTSTAMP:20190820T053736Z
URL:https://frauenbund-aicha-vorm-wald.de/termine/erntedankfest-mit-erntem
 arkt-3/
SUMMARY:Erntedankfest mit Erntemarkt
DESCRIPTION:
CATEGORIES:Frauenbund Aicha vorm Wald
LOCATION:Gasthaus Stauder\, Am Kirchplatz 3\, Aicha vorm Wald\, Bayern\, 94
 529\, Deutschland
GEO:48.6727315;13.290246900000056
X-APPLE-STRUCTURED-LOCATION;VALUE=URI;X-ADDRESS=Am Kirchplatz 3\, Aicha vor
 m Wald\, Bayern\, 94529\, Deutschland;X-APPLE-RADIUS=100;X-TITLE=Gasthaus 
 Stauder:geo:48.6727315,13.290246900000056
END:VEVENT
BEGIN:VTIMEZONE
TZID:Europe/Berlin
X-LIC-LOCATION:Europe/Berlin
BEGIN:DAYLIGHT
DTSTART:20190331T030000
TZOFFSETFROM:+0100
TZOFFSETTO:+0200
TZNAME:CEST
END:DAYLIGHT
END:VTIMEZONE
END:VCALENDAR