BEGIN:VCALENDAR
VERSION:2.0
PRODID:-//wp-events-plugin.com//7.2.3.1//EN
TZID:Europe/Berlin
X-WR-TIMEZONE:Europe/Berlin
BEGIN:VEVENT
UID:9-1256@frauenbund-aicha-vorm-wald.de
DTSTART;TZID=Europe/Berlin:20180214T090000
DTEND;TZID=Europe/Berlin:20180214T130000
DTSTAMP:20171222T161537Z
URL:https://frauenbund-aicha-vorm-wald.de/frauenbund-emmerting/termine/asc
 hermittwoch-der-frauen/
SUMMARY:Aschermittwoch der Frauen
DESCRIPTION:Kursleiterin: Sr. Marika Wippenbeck\, Gebühr 10\,00 € inkl. 
 Fastensuppe\n\nAnmeldung bis Freitag\, 09.02. bei Heidi Vogt\, Tel. 08679/
 4344.\n\nWir bilden Fahrgemeinschaften\, Abfahrt 8.30 Uhr am Kirchplatz
CATEGORIES:Frauenbund Emmerting
LOCATION:\, \, 
GEO:48.22410439999999;12.685777899999948
X-APPLE-STRUCTURED-LOCATION;VALUE=URI;X-ADDRESS=\, ;X-APPLE-RADIUS=100;X-TI
 TLE=:geo:48.22410439999999,12.685777899999948
END:VEVENT
BEGIN:VTIMEZONE
TZID:Europe/Berlin
X-LIC-LOCATION:Europe/Berlin
BEGIN:STANDARD
DTSTART:20171029T020000
TZOFFSETFROM:+0200
TZOFFSETTO:+0100
TZNAME:CET
END:STANDARD
END:VTIMEZONE
END:VCALENDAR