BEGIN:VCALENDAR
VERSION:2.0
PRODID:-//wp-events-plugin.com//7.2.3.1//EN
TZID:Europe/Berlin
X-WR-TIMEZONE:Europe/Berlin
BEGIN:VEVENT
UID:1-697@frauenbund-aicha-vorm-wald.de
DTSTART;TZID=Europe/Berlin:20161106T090000
DTEND;TZID=Europe/Berlin:20161106T100000
DTSTAMP:20161028T033701Z
URL:https://frauenbund-aicha-vorm-wald.de/termine/abschlussgottesdienst-zu
 m-jahr-der-barmherzigkeit/
SUMMARY:Abschlussgottesdienst zum Jahr der Barmherzigkeit
DESCRIPTION:
CATEGORIES:Frauenbund Aicha vorm Wald
END:VEVENT
BEGIN:VTIMEZONE
TZID:Europe/Berlin
X-LIC-LOCATION:Europe/Berlin
BEGIN:STANDARD
DTSTART:20161030T020000
TZOFFSETFROM:+0200
TZOFFSETTO:+0100
TZNAME:CET
END:STANDARD
END:VTIMEZONE
END:VCALENDAR